BEGIN:VCALENDAR
VERSION:2.0
PRODID:-//hacksw/handcal//NONSGML v1.0//EN
BEGIN:VEVENT
SUMMARY:Pour info, 14eme edition de la Granit’ Montana.
UID:3384f7ac-196c-4db3-b8ee-58a0dd7a5cf3
DTSTART:20260614T060000Z
DTEND:20260614T130000Z
LOCATION:Localisation Etang de Jonas 87240 Ambazac
CATEGORIES:Sportif
STATUS:
DESCRIPTION:<p>Voir <a
 href="https://admin.sportsregions.fr/media/uploaded/sites/22047/kcupload/files/la-granit.jpg"
 target="_blank" rel="noreferrer noopener">details</a></p>
URL;VALUE=URI:https://www.velos-pictaves.fr/evenements/2026/06/14/pour-info-14eme-edition-de-la-granit-montana-2373835
END:VEVENT
END:VCALENDAR
