BEGIN:VCALENDAR
VERSION:2.0
PRODID:-//hacksw/handcal//NONSGML v1.0//EN
BEGIN:VEVENT
SUMMARY:La Randonnee Des Sportifs. Saint Benoit.
UID:b9dc114c-2d7e-4d7c-8b1e-0d5e94414d07
DTSTART:20260614T053000Z
DTEND:20260614T103000Z
LOCATION:Localisation Parking Saint Nicolas 86280 Saint Benoit
CATEGORIES:Manifestation
STATUS:
DESCRIPTION:<p>Voir <a
 href="https://www.nafix.fr/tracts/2026/tract_90851.pdf"
 target="_blank" rel="noreferrer noopener">details</a></p>
URL;VALUE=URI:https://www.velos-pictaves.fr/evenements/2026/06/14/la-randonnee-des-sportifs-saint-benoit-2443002
END:VEVENT
END:VCALENDAR
