BEGIN:VCALENDAR
VERSION:2.0
PRODID:-//hacksw/handcal//NONSGML v1.0//EN
BEGIN:VEVENT
SUMMARY:Pour info, Rando VTT "La 1076". Saint Preuil. (16)
UID:2671d10e-8e9e-40c7-9da7-1e48f82e462d
DTSTART:20260607T060000Z
DTEND:20260607T110000Z
LOCATION:Localisation  16 Saint Preuil
CATEGORIES:Manifestation
STATUS:
DESCRIPTION:<p>Voir <a
 href="https://www.nafix.fr/tracts/2026/tract_90994.pdf"
 target="_blank" rel="noreferrer noopener">details</a></p>
URL;VALUE=URI:https://www.velos-pictaves.fr/evenements/2026/06/07/pour-info-rando-vtt-la-1076-saint-preuil-16-2443010
END:VEVENT
END:VCALENDAR
