BEGIN:VCALENDAR
VERSION:2.0
PRODID:-//hacksw/handcal//NONSGML v1.0//EN
BEGIN:VEVENT
SUMMARY:Rando VTT - 18eme Trans'Julienoise. Jardres
UID:aee9f57c-6a8a-4376-8b78-6d3e208611e4
DTSTART:20260531T053000Z
DTEND:20260531T103000Z
LOCATION:Localisation Salle des Fetes  Jardres
CATEGORIES:Manifestation
STATUS:
DESCRIPTION:<p>Voir <a
 href="https://www.nafix.fr/tracts/flyer-18-me-trans-julienoise-2026-89819.html"
 target="_blank" rel="noreferrer noopener">details</a></p>
URL;VALUE=URI:https://www.velos-pictaves.fr/evenements/2026/05/31/rando-vtt-18eme-transjulienoise-jardres-2442999
END:VEVENT
END:VCALENDAR
