BEGIN:VCALENDAR
VERSION:2.0
PRODID:-//hacksw/handcal//NONSGML v1.0//EN
BEGIN:VEVENT
SUMMARY:Pour info, Raid Sud Vienne. Lussac Les Chateaux
UID:923e2bbe-3246-479a-9f95-d08ce146cd85
DTSTART:20260510T060000Z
DTEND:20260510T150000Z
LOCATION:Localisation Camping municipal  Lussac Les Chateaux
CATEGORIES:Manifestation
STATUS:
DESCRIPTION:<p>Voir <a
 href="https://www.nafix.fr/tracts/flyer-raid-sud-vienne-vtt-2026-2026-90755.html"
 target="_blank" rel="noreferrer noopener">details</a></p>
URL;VALUE=URI:https://www.velos-pictaves.fr/evenements/2026/05/10/pour-info-raid-sud-vienne-lussac-les-chateaux-2442997
END:VEVENT
END:VCALENDAR
