BEGIN:VCALENDAR
VERSION:2.0
PRODID:-//hacksw/handcal//NONSGML v1.0//EN
BEGIN:VEVENT
SUMMARY:Sortie Club. Depart: CREPS de Boivre.
UID:13202227-144f-4f45-871d-c12fd1eeaf2a
DTSTART:20260419T070000Z
DTEND:20260419T100000Z
LOCATION:Localisation Creps de Boivre  vouneuil sous biard
CATEGORIES:Entrainement
STATUS:
URL;VALUE=URI:https://www.velos-pictaves.fr/evenements/2026/04/19/sortie-club-depart-creps-de-boivre-2424530
END:VEVENT
END:VCALENDAR
