BEGIN:VCALENDAR
VERSION:2.0
PRODID:-//hacksw/handcal//NONSGML v1.0//EN
BEGIN:VEVENT
SUMMARY:Pour info, Enduro et R'Enduro des Millevaches
UID:c34ee219-bb88-4cf0-afc6-26af0027e3f9
DTSTART:20260328T064500Z
DTEND:20260329T140000Z
LOCATION:Localisation  23 Croze
CATEGORIES:Sportif
STATUS:
DESCRIPTION:<p>Voir https://www.endurodesmillevaches.fr/</p>
URL;VALUE=URI:https://www.velos-pictaves.fr/evenements/2026/03/28/pour-info-enduro-et-renduro-des-millevaches-2424526
END:VEVENT
END:VCALENDAR
