BEGIN:VCALENDAR
VERSION:2.0
PRODID:-//hacksw/handcal//NONSGML v1.0//EN
BEGIN:VEVENT
SUMMARY:Sortie Club. Depart : salle des Fetes. Bonnes
UID:8f066568-3b0a-4343-9763-a454adf19552
DTSTART:20260322T080000Z
DTEND:20260322T110000Z
LOCATION:Localisation salle des fetes  Bonnes
CATEGORIES:Entrainement
STATUS:
URL;VALUE=URI:https://www.velos-pictaves.fr/evenements/2026/03/22/sortie-club-depart-salle-des-fetes-bonnes-2424525
END:VEVENT
END:VCALENDAR
