BEGIN:VCALENDAR
VERSION:2.0
PRODID:-//hacksw/handcal//NONSGML v1.0//EN
BEGIN:VEVENT
SUMMARY:Sortie Club. Depart de chez Charles
UID:74f89abb-35b5-4e00-9665-89574b99701d
DTSTART:20260315T080000Z
DTEND:20260315T110000Z
LOCATION:Localisation Place de l'eglise  Migne Auxances
CATEGORIES:Entrainement
STATUS:
URL;VALUE=URI:https://www.velos-pictaves.fr/evenements/2026/03/15/sortie-club-depart-de-chez-charles-2424524
END:VEVENT
END:VCALENDAR
