BEGIN:VCALENDAR
VERSION:2.0
PRODID:-//hacksw/handcal//NONSGML v1.0//EN
BEGIN:VEVENT
SUMMARY:Sortie club. Depart: stade de La Pepiniere. Buxerolles
UID:7d475369-0abf-4873-bf75-5a4236f5eb26
DTSTART:20260308T080000Z
DTEND:20260308T110000Z
LOCATION:Localisation Stade Michel Amand 86180 Buxerolles
CATEGORIES:Entrainement
STATUS:
URL;VALUE=URI:https://www.velos-pictaves.fr/evenements/2026/03/08/sortie-club-depart-stade-de-la-pepiniere-buxerolles-2424523
END:VEVENT
END:VCALENDAR
