BEGIN:VCALENDAR
VERSION:2.0
PRODID:-//hacksw/handcal//NONSGML v1.0//EN
BEGIN:VEVENT
SUMMARY:Reunion planning sorties
UID:b5f59349-4f0a-41d2-a092-ea3f1660ad42
DTSTART:20260306T170000Z
DTEND:20260306T190000Z
LOCATION:Localisation The Roof 11 Rue de la Demi Lune 86000 Poitiers
CATEGORIES:Administratif
STATUS:
URL;VALUE=URI:https://www.velos-pictaves.fr/evenements/2026/03/06/reunion-planning-sorties-2423232
END:VEVENT
END:VCALENDAR
